BEGIN:VCALENDAR
VERSION:2.0
PRODID:-//wp-events-plugin.com//7.2.3.1//EN
TZID:Europe/Berlin
X-WR-TIMEZONE:Europe/Berlin
BEGIN:VEVENT
UID:0-121@blog.entgames.de
DTSTART;TZID=Europe/Berlin:20260530T193000
DTEND;TZID=Europe/Berlin:20260530T230000
DTSTAMP:20260420T231029Z
URL:https://blog.entgames.de/events/empfehlung-cafe-quiz-night/
SUMMARY:Empfehlung: Café Quiz Night
DESCRIPTION:Startzeit: 19h30 (Einchecken ab 19h00 möglich)\nStartgebühr:
  10\,00 Euro p.P.\n\nDas Siegerteam erhält einen Gutschein von uns im We
 rt von 10\,00 Euro + 1\,00 Euro für jeden Teilnehmer*in und eine Siegertr
 ophäe.\nDie maximale Teamgröße beträgt 5 Spieler*innen. Gerne dürfen 
 sich Einzelpersonen anmelden\, wir werden Sie einem Team zuweisen bzw. ein
  weiteres Team gründen.
CATEGORIES:Empfohlene Veranstaltungen
LOCATION:EntCafé Grünberg\, Londorfer Strasse 14\, Grünberg\, Hessen\, 3
 5305\, Deutschland
GEO:50.593111;8.958143
X-APPLE-STRUCTURED-LOCATION;VALUE=URI;X-ADDRESS=Londorfer Strasse 14\, Grü
 nberg\, Hessen\, 35305\, Deutschland;X-APPLE-RADIUS=100;X-TITLE=EntCafé G
 rünberg:geo:50.593111,8.958143
END:VEVENT
BEGIN:VTIMEZONE
TZID:Europe/Berlin
X-LIC-LOCATION:Europe/Berlin
BEGIN:DAYLIGHT
DTSTART:20260329T030000
TZOFFSETFROM:+0100
TZOFFSETTO:+0200
TZNAME:CEST
END:DAYLIGHT
END:VTIMEZONE
END:VCALENDAR