BEGIN:VCALENDAR
VERSION:2.0
PRODID:-//wp-events-plugin.com//7.2.3.1//EN
TZID:Europe/Berlin
X-WR-TIMEZONE:Europe/Berlin
BEGIN:VEVENT
UID:0-107@blog.entgames.de
DTSTART;TZID=Europe/Berlin:20260522T180000
DTEND;TZID=Europe/Berlin:20260522T220000
DTSTAMP:20260224T002535Z
URL:https://blog.entgames.de/events/spiele-nacht-in-laubach-lauter-support
 -entgames-11/
SUMMARY:Spiele-Nacht in Laubach-Lauter (Support EntGames)
DESCRIPTION:Wir wurden eingeladen\, um in Lauter im Gemeindehaus einen Spie
 leabend zu veranstalten.\n\nKein ewiges Spielanleitungen lesen mehr!\n\nLe
 rnt neue Spiele und Regeln einfach durchs Spielen.\nFindet neue Mit- oder 
 Gegenspieler.\n\nWir bieten eine große Sammlung von Spielen aller Art an.
 \nSpielwünsche könnt ihr uns gerne vorher mitteilen.
ATTACH;FMTTYPE=image/jpeg:https://blog.entgames.de/wp-content/uploads/2026
 /01/WhatsApp-Image-2026-02-23-at-15.21.46.jpeg
CATEGORIES:Spiel-Treffen
LOCATION:Evangelisches Gemeindehaus Lauter\, Lautertalstraße 38\, Laubach\
 , Hessen\, 35321\, Deutschland
GEO:50.569535;8.965429
X-APPLE-STRUCTURED-LOCATION;VALUE=URI;X-ADDRESS=Lautertalstraße 38\, Lauba
 ch\, Hessen\, 35321\, Deutschland;X-APPLE-RADIUS=100;X-TITLE=Evangelisches
  Gemeindehaus Lauter:geo:50.569535,8.965429
END:VEVENT
BEGIN:VTIMEZONE
TZID:Europe/Berlin
X-LIC-LOCATION:Europe/Berlin
BEGIN:DAYLIGHT
DTSTART:20260329T030000
TZOFFSETFROM:+0100
TZOFFSETTO:+0200
TZNAME:CEST
END:DAYLIGHT
END:VTIMEZONE
END:VCALENDAR