BEGIN:VCALENDAR
VERSION:2.0
PRODID:-//wp-events-plugin.com//7.2.3.1//EN
TZID:Europe/Berlin
X-WR-TIMEZONE:Europe/Berlin
BEGIN:VEVENT
UID:0-119@blog.entgames.de
DTSTART;TZID=Europe/Berlin:20260502T180000
DTEND;TZID=Europe/Berlin:20260502T220000
DTSTAMP:20260420T230612Z
URL:https://blog.entgames.de/events/triple-x-waehle-deinen-pfad-3/
SUMMARY:Triple X - Wähle deinen Pfad
DESCRIPTION:TripleX – Next Level Gaming für echte Strategen \nDu hast g
 enug von „einfachen“ Spielen und suchst die echte Herausforderung? Wil
 lkommen bei TripleX – dem Spieleabend für alle ab 14\, die mehr wollen 
 als Würfeln und hoffen!\nHier erwarten dich Kenner- und Expertenspiele\, 
 bei denen Taktik\, Köpfchen und manchmal auch ein bisschen Mut gefragt si
 nd.\nAber keine Angst vor dicken Regelheften: Die ehrenamtlichen Spieleerk
 lärer vom EntGames Spieleclub aus Grünberg bringen dich schnell und unko
 mpliziert ins Spiel – ohne stundenlanges Durchlesen.\nEinmal erklärt\, 
 geht’s direkt los:\nPlanen\, tüfteln\, verhandeln\, erobern – und nat
 ürlich gewinnen (oder es zumindest versuchen ).\nWas wird gespielt?\nDrei
  ausgewählte Kenner- oder Expertenspiele warten auf dich – die genaue A
 uswahl kann sich noch ändern\, aber eins ist sicher: Es wird spannend!\n\
 n\n 	schneller Einstieg\n 	Anspruchsvolle Spiele\n 	Gemeinsamer Spielspaß
 \n\nUnser Motto: Mitspielen statt durchlesen!\nAlso schnapp dir deine Stra
 tegie\, bring dein Pokerface mit und zeig\, was in dir steckt – bei Trip
 leX wird nicht nur gespielt\, hier wird aufgedreht!\n\nAußerdem vermisse 
 nicht die Community unter WhatApp : https://chat.whatsapp.com/I5FcUrYwD91G
 noMZlGa9Nv\noder Discord: https://discord.gg/tB8MSrbc8G
ATTACH;FMTTYPE=image/jpeg:https://blog.entgames.de/wp-content/uploads/2025
 /11/Triple-X-Waehle-deinen-Pfad-v2.2-e1763072141746.jpg
CATEGORIES:Empfohlene Veranstaltungen,Spiel-Treffen,The GameNight
LOCATION:EntCafé Grünberg\, Londorfer Strasse 14\, Grünberg\, Hessen\, 3
 5305\, Deutschland
GEO:50.593111;8.958143
X-APPLE-STRUCTURED-LOCATION;VALUE=URI;X-ADDRESS=Londorfer Strasse 14\, Grü
 nberg\, Hessen\, 35305\, Deutschland;X-APPLE-RADIUS=100;X-TITLE=EntCafé G
 rünberg:geo:50.593111,8.958143
END:VEVENT
BEGIN:VTIMEZONE
TZID:Europe/Berlin
X-LIC-LOCATION:Europe/Berlin
BEGIN:DAYLIGHT
DTSTART:20260329T030000
TZOFFSETFROM:+0100
TZOFFSETTO:+0200
TZNAME:CEST
END:DAYLIGHT
END:VTIMEZONE
END:VCALENDAR